BEGIN:VCALENDAR
VERSION:2.0
PRODID:GlueUp
CALSCALE:GREGORIAN
BEGIN:VTIMEZONE
TZID:UTC
BEGIN:STANDARD
DTSTART:19700101T000000
TZOFFSETFROM:+0000
TZOFFSETTO:+0000
TZNAME:UTC
END:STANDARD
END:VTIMEZONE
BEGIN:VEVENT
TZ:+00
ORGANIZER;CN=Yale Center Beijing耶鲁北京中心:MAILTO:yalecenterbeijing@yale.edu
UID:50235-1776883293@https://yalecenterbj.glueup.cn
DTSTAMP:20260422T184133Z
DTSTART:20260507T110000Z
DTEND:20260507T123000Z
SUMMARY:Transplants: A Reading and Conversation
DESCRIPTION:Transplants: A Reading and Conversation by Yale Center Beijing\n\nMay 7, 2026 (19:00 - 20:30)(GMT+8)\n\nFor more information, click here: https://yalecenterbj.glueup.cn/my/events/50235
LOCATION:Yale Center Beijing - 36th Floor - Tower B - IFC Building (Yong'anli Station - Exit C) - 8 Jianguomenwai Avenue - Chaoyang District - Beijing - China Beijing - China
BEGIN:VALARM
TRIGGER:-PT48H
REPEAT:4
DURATION:PT30M
ACTION:DISPLAY
END:VALARM
END:VEVENT
END:VCALENDAR