BEGIN:VCALENDAR
VERSION:2.0
PRODID:GlueUp
CALSCALE:GREGORIAN
BEGIN:VTIMEZONE
TZID:UTC
BEGIN:STANDARD
DTSTART:19700101T000000
TZOFFSETFROM:+0000
TZOFFSETTO:+0000
TZNAME:UTC
END:STANDARD
END:VTIMEZONE
BEGIN:VEVENT
TZ:+00
ORGANIZER;CN=Yale Center Beijing:MAILTO:yalecenterbeijing@yale.edu
UID:6870-1776737919@https://yalecenterbj.glueup.cn
DTSTAMP:20260421T021839Z
DTSTART:20161121T110000Z
DTEND:20161121T124000Z
SUMMARY:Effective Parenting
DESCRIPTION:Effective Parenting by Yale Center Beijing\n\nNov 21, 2016 (19:00 - 20:40)(GMT+8)\n\nFor more information, click here: https://yalecenterbj.glueup.cn/my/events/6870
LOCATION:Yale Center Beijing - 36th Floor - Tower B - IFC Building (Yong'anli Station - Exit C) - 8 Jianguomenwai Avenue - Chaoyang District - Beijing - China Beijing - China
BEGIN:VALARM
TRIGGER:-PT48H
REPEAT:4
DURATION:PT30M
ACTION:DISPLAY
END:VALARM
END:VEVENT
END:VCALENDAR