BEGIN:VCALENDAR
VERSION:2.0
PRODID:GlueUp
CALSCALE:GREGORIAN
BEGIN:VTIMEZONE
TZID:UTC
BEGIN:STANDARD
DTSTART:19700101T000000
TZOFFSETFROM:+0000
TZOFFSETTO:+0000
TZNAME:UTC
END:STANDARD
END:VTIMEZONE
BEGIN:VEVENT
TZ:+00
ORGANIZER;CN=Yale Center Beijing:MAILTO:yalecenterbeijing@yale.edu
UID:5848-1776654571@https://yalecenterbj.glueup.cn
DTSTAMP:20260420T030931Z
DTSTART:20160627T103000Z
DTEND:20160627T130000Z
SUMMARY:Yinuo & Expert Panelists on Education Innovation
DESCRIPTION:Yinuo & Expert Panelists on Education Innovation by Yale Center Beijing\n\nJun 27, 2016 (18:30 - 21:00)(GMT+8)\n\nFor more information, click here: https://yalecenterbj.glueup.cn/my/events/5848
LOCATION:Yale Center Beijing - 36th Floor - Tower B - IFC Building (Yong'anli Station - Exit C) - 8 Jianguomenwai Avenue - Chaoyang District - Beijing - China Beijing - China
BEGIN:VALARM
TRIGGER:-PT48H
REPEAT:4
DURATION:PT30M
ACTION:DISPLAY
END:VALARM
END:VEVENT
END:VCALENDAR